BEGIN:VCALENDAR
VERSION:2.0
PRODID:-//Angles on Design - ECPv6.15.20//NONSGML v1.0//EN
CALSCALE:GREGORIAN
METHOD:PUBLISH
X-WR-CALNAME:Angles on Design
X-ORIGINAL-URL:https://anglesondesign.com
X-WR-CALDESC:Events for Angles on Design
REFRESH-INTERVAL;VALUE=DURATION:PT1H
X-Robots-Tag:noindex
X-PUBLISHED-TTL:PT1H
BEGIN:VTIMEZONE
TZID:America/Chicago
BEGIN:DAYLIGHT
TZOFFSETFROM:-0600
TZOFFSETTO:-0500
TZNAME:CDT
DTSTART:20250309T080000
END:DAYLIGHT
BEGIN:STANDARD
TZOFFSETFROM:-0500
TZOFFSETTO:-0600
TZNAME:CST
DTSTART:20251102T070000
END:STANDARD
BEGIN:DAYLIGHT
TZOFFSETFROM:-0600
TZOFFSETTO:-0500
TZNAME:CDT
DTSTART:20260308T080000
END:DAYLIGHT
BEGIN:STANDARD
TZOFFSETFROM:-0500
TZOFFSETTO:-0600
TZNAME:CST
DTSTART:20261101T070000
END:STANDARD
BEGIN:DAYLIGHT
TZOFFSETFROM:-0600
TZOFFSETTO:-0500
TZNAME:CDT
DTSTART:20270314T080000
END:DAYLIGHT
BEGIN:STANDARD
TZOFFSETFROM:-0500
TZOFFSETTO:-0600
TZNAME:CST
DTSTART:20271107T070000
END:STANDARD
END:VTIMEZONE
BEGIN:VEVENT
DTSTART;TZID=America/Chicago:20260424T000000
DTEND;TZID=America/Chicago:20260426T000000
DTSTAMP:20260423T083252
CREATED:20250929T212738Z
LAST-MODIFIED:20250929T212738Z
UID:5939-1776988800-1777161600@anglesondesign.com
SUMMARY:Heart Rhythm
DESCRIPTION:
URL:https://anglesondesign.com/event/heart-rhythm/
LOCATION:McCormick Place\, Chicago\, Illinois
END:VEVENT
BEGIN:VEVENT
DTSTART;TZID=America/Chicago:20260503T000000
DTEND;TZID=America/Chicago:20260505T000000
DTSTAMP:20260423T083252
CREATED:20250929T212739Z
LAST-MODIFIED:20250929T212739Z
UID:5940-1777766400-1777939200@anglesondesign.com
SUMMARY:DDW
DESCRIPTION:
URL:https://anglesondesign.com/event/ddw/
LOCATION:McCormick Place\, Chicago\, Illinois
END:VEVENT
BEGIN:VEVENT
DTSTART;TZID=America/Chicago:20260504T000000
DTEND;TZID=America/Chicago:20260507T000000
DTSTAMP:20260423T083252
CREATED:20250929T212605Z
LAST-MODIFIED:20250929T212605Z
UID:5925-1777852800-1778112000@anglesondesign.com
SUMMARY:ACT
DESCRIPTION:
URL:https://anglesondesign.com/event/act/
LOCATION:Las Vegas Convention Center\, Las Vegas\, Nevada
END:VEVENT
BEGIN:VEVENT
DTSTART;TZID=America/Chicago:20260505T000000
DTEND;TZID=America/Chicago:20260507T000000
DTSTAMP:20260423T083252
CREATED:20250929T212710Z
LAST-MODIFIED:20250929T212710Z
UID:5932-1777939200-1778112000@anglesondesign.com
SUMMARY:HD Expo
DESCRIPTION:
URL:https://anglesondesign.com/event/hd-expo-3/
LOCATION:Mandalay Bay\, Las Vegas\, Nevada
END:VEVENT
BEGIN:VEVENT
DTSTART;TZID=America/Chicago:20260505T000000
DTEND;TZID=America/Chicago:20260507T000000
DTSTAMP:20260423T083252
CREATED:20250929T212739Z
LAST-MODIFIED:20250929T212739Z
UID:5941-1777939200-1778112000@anglesondesign.com
SUMMARY:IEEE
DESCRIPTION:
URL:https://anglesondesign.com/event/ieee-2/
LOCATION:McCormick Place\, Chicago\, Illinois
END:VEVENT
BEGIN:VEVENT
DTSTART;TZID=America/Chicago:20260506T000000
DTEND;TZID=America/Chicago:20260508T000000
DTSTAMP:20260423T083252
CREATED:20250929T212407Z
LAST-MODIFIED:20250929T212407Z
UID:5911-1778025600-1778198400@anglesondesign.com
SUMMARY:H & H Americas
DESCRIPTION:
URL:https://anglesondesign.com/event/h-h-americas-4/
LOCATION:Donald E Stephens Convention Center\, Rosemont\, Illinois
END:VEVENT
BEGIN:VEVENT
DTSTART;TZID=America/Chicago:20260506T000000
DTEND;TZID=America/Chicago:20260508T000000
DTSTAMP:20260423T083253
CREATED:20250929T212605Z
LAST-MODIFIED:20250929T212605Z
UID:5926-1778025600-1778198400@anglesondesign.com
SUMMARY:Waste
DESCRIPTION:
URL:https://anglesondesign.com/event/waste-3/
LOCATION:Las Vegas Convention Center\, Las Vegas\, Nevada
END:VEVENT
BEGIN:VEVENT
DTSTART;TZID=America/Chicago:20260509T000000
DTEND;TZID=America/Chicago:20260510T000000
DTSTAMP:20260423T083253
CREATED:20250929T212408Z
LAST-MODIFIED:20250929T212408Z
UID:5912-1778284800-1778371200@anglesondesign.com
SUMMARY:Green Building Infastructure
DESCRIPTION:
URL:https://anglesondesign.com/event/green-building-infastructure/
LOCATION:Donald E Stephens Convention Center\, Rosemont\, Illinois
END:VEVENT
BEGIN:VEVENT
DTSTART;TZID=America/Chicago:20260512T000000
DTEND;TZID=America/Chicago:20260514T000000
DTSTAMP:20260423T083253
CREATED:20250929T212409Z
LAST-MODIFIED:20250929T212409Z
UID:5913-1778544000-1778716800@anglesondesign.com
SUMMARY:Food Safety Summit
DESCRIPTION:
URL:https://anglesondesign.com/event/food-safety-summit-3/
LOCATION:Donald E Stephens Convention Center\, Rosemont\, Illinois
END:VEVENT
BEGIN:VEVENT
DTSTART;TZID=America/Chicago:20260513T000000
DTEND;TZID=America/Chicago:20260515T000000
DTSTAMP:20260423T083253
CREATED:20250929T212710Z
LAST-MODIFIED:20250929T212710Z
UID:5933-1778630400-1778803200@anglesondesign.com
SUMMARY:ABC Kids
DESCRIPTION:
URL:https://anglesondesign.com/event/abc-kids/
LOCATION:Mandalay Bay\, Las Vegas\, Nevada
END:VEVENT
BEGIN:VEVENT
DTSTART;TZID=America/Chicago:20260516T000000
DTEND;TZID=America/Chicago:20260519T000000
DTSTAMP:20260423T083253
CREATED:20250929T212739Z
LAST-MODIFIED:20250929T212739Z
UID:5942-1778889600-1779148800@anglesondesign.com
SUMMARY:NRA
DESCRIPTION:
URL:https://anglesondesign.com/event/nra-2/
LOCATION:McCormick Place\, Chicago\, Illinois
END:VEVENT
BEGIN:VEVENT
DTSTART;TZID=America/Chicago:20260518T000000
DTEND;TZID=America/Chicago:20260520T000000
DTSTAMP:20260423T083253
CREATED:20250929T212606Z
LAST-MODIFIED:20250929T212606Z
UID:5927-1779062400-1779235200@anglesondesign.com
SUMMARY:ICSC
DESCRIPTION:
URL:https://anglesondesign.com/event/icsc-3/
LOCATION:Las Vegas Convention Center\, Las Vegas\, Nevada
END:VEVENT
BEGIN:VEVENT
DTSTART;TZID=America/Chicago:20260519T000000
DTEND;TZID=America/Chicago:20260521T000000
DTSTAMP:20260423T083253
CREATED:20250929T212606Z
LAST-MODIFIED:20250929T212606Z
UID:5928-1779148800-1779321600@anglesondesign.com
SUMMARY:Sweets & Snacks
DESCRIPTION:
URL:https://anglesondesign.com/event/sweets-snacks/
LOCATION:Las Vegas Convention Center\, Las Vegas\, Nevada
END:VEVENT
BEGIN:VEVENT
DTSTART;TZID=America/Chicago:20260519T000000
DTEND;TZID=America/Chicago:20260521T000000
DTSTAMP:20260423T083253
CREATED:20250929T212708Z
LAST-MODIFIED:20250929T212708Z
UID:5929-1779148800-1779321600@anglesondesign.com
SUMMARY:Licensing
DESCRIPTION:
URL:https://anglesondesign.com/event/licensing-3/
LOCATION:Las Vegas Convention Center\, Las Vegas\, Nevada
END:VEVENT
BEGIN:VEVENT
DTSTART;TZID=America/Chicago:20260527T000000
DTEND;TZID=America/Chicago:20260601T000000
DTSTAMP:20260423T083253
CREATED:20250929T212754Z
LAST-MODIFIED:20250929T212754Z
UID:5947-1779840000-1780272000@anglesondesign.com
SUMMARY:Luxury At JCK
DESCRIPTION:
URL:https://anglesondesign.com/event/luxury-at-jck/
LOCATION:The Venetian\, Las Vegas\, Nevada
END:VEVENT
BEGIN:VEVENT
DTSTART;TZID=America/Chicago:20260529T000000
DTEND;TZID=America/Chicago:20260529T000000
DTSTAMP:20260423T083253
CREATED:20250929T212754Z
LAST-MODIFIED:20250929T212754Z
UID:5948-1780012800-1780012800@anglesondesign.com
SUMMARY:JCK
DESCRIPTION:
URL:https://anglesondesign.com/event/jck-3/
LOCATION:The Venetian\, Las Vegas\, Nevada
END:VEVENT
BEGIN:VEVENT
DTSTART;TZID=America/Chicago:20260529T000000
DTEND;TZID=America/Chicago:20260602T000000
DTSTAMP:20260423T083253
CREATED:20250929T212740Z
LAST-MODIFIED:20250929T212740Z
UID:5943-1780012800-1780358400@anglesondesign.com
SUMMARY:ASCO
DESCRIPTION:
URL:https://anglesondesign.com/event/asco-5/
LOCATION:McCormick Place\, Chicago\, Illinois
END:VEVENT
BEGIN:VEVENT
DTSTART;VALUE=DATE:20260609
DTEND;VALUE=DATE:20260612
DTSTAMP:20260423T083253
CREATED:20260413T171633Z
LAST-MODIFIED:20260413T171633Z
UID:6628-1780963200-1781222399@anglesondesign.com
SUMMARY:Omtec
DESCRIPTION:
URL:https://anglesondesign.com/event/omtec-4/
LOCATION:Donald E Stephens Convention Center\, Rosemont\, Illinois
END:VEVENT
BEGIN:VEVENT
DTSTART;VALUE=DATE:20260617
DTEND;VALUE=DATE:20260620
DTSTAMP:20260423T083253
CREATED:20260413T172621Z
LAST-MODIFIED:20260413T172621Z
UID:6645-1781654400-1781913599@anglesondesign.com
SUMMARY:Infocomm
DESCRIPTION:
URL:https://anglesondesign.com/event/infocomm-2/
LOCATION:Las Vegas Convention Center\, Las Vegas\, Nevada
END:VEVENT
BEGIN:VEVENT
DTSTART;VALUE=DATE:20260622
DTEND;VALUE=DATE:20260626
DTSTAMP:20260423T083253
CREATED:20260413T173906Z
LAST-MODIFIED:20260413T173906Z
UID:6674-1782086400-1782431999@anglesondesign.com
SUMMARY:A3 Automate
DESCRIPTION:
URL:https://anglesondesign.com/event/a3-automate/
LOCATION:McCormick Place\, Chicago\, Illinois
END:VEVENT
BEGIN:VEVENT
DTSTART;VALUE=DATE:20260623
DTEND;VALUE=DATE:20260626
DTSTAMP:20260423T083253
CREATED:20260413T171446Z
LAST-MODIFIED:20260413T171806Z
UID:6626-1782172800-1782431999@anglesondesign.com
SUMMARY:Champs
DESCRIPTION:
URL:https://anglesondesign.com/event/champs-8/
LOCATION:Donald E Stephens Convention Center\, Rosemont\, Illinois
END:VEVENT
BEGIN:VEVENT
DTSTART;VALUE=DATE:20260627
DTEND;VALUE=DATE:20260630
DTSTAMP:20260423T083253
CREATED:20260413T173822Z
LAST-MODIFIED:20260413T173822Z
UID:6672-1782518400-1782777599@anglesondesign.com
SUMMARY:ALA
DESCRIPTION:
URL:https://anglesondesign.com/event/ala-2/
LOCATION:McCormick Place\, Chicago\, Illinois
END:VEVENT
BEGIN:VEVENT
DTSTART;VALUE=DATE:20260712
DTEND;VALUE=DATE:20260716
DTSTAMP:20260423T083253
CREATED:20260413T173729Z
LAST-MODIFIED:20260413T173729Z
UID:6670-1783814400-1784159999@anglesondesign.com
SUMMARY:IFT
DESCRIPTION:
URL:https://anglesondesign.com/event/ift-7/
LOCATION:McCormick Place\, Chicago\, Illinois
END:VEVENT
BEGIN:VEVENT
DTSTART;VALUE=DATE:20260713
DTEND;VALUE=DATE:20260716
DTSTAMP:20260423T083253
CREATED:20260413T172851Z
LAST-MODIFIED:20260413T172851Z
UID:6651-1783900800-1784159999@anglesondesign.com
SUMMARY:Cosmoprof
DESCRIPTION:
URL:https://anglesondesign.com/event/cosmoprof-4/
LOCATION:Mandalay Bay\, Las Vegas\, Nevada
END:VEVENT
BEGIN:VEVENT
DTSTART;VALUE=DATE:20260722
DTEND;VALUE=DATE:20260724
DTSTAMP:20260423T083253
CREATED:20260413T173639Z
LAST-MODIFIED:20260413T173639Z
UID:6668-1784678400-1784851199@anglesondesign.com
SUMMARY:ASI
DESCRIPTION:
URL:https://anglesondesign.com/event/asi-2/
LOCATION:McCormick Place\, Chicago\, Illinois
END:VEVENT
BEGIN:VEVENT
DTSTART;VALUE=DATE:20260729
DTEND;VALUE=DATE:20260803
DTSTAMP:20260423T083253
CREATED:20260413T171408Z
LAST-MODIFIED:20260413T171408Z
UID:6624-1785283200-1785715199@anglesondesign.com
SUMMARY:National Sports Collectors
DESCRIPTION:
URL:https://anglesondesign.com/event/national-sports-collectors-2/
LOCATION:Donald E Stephens Convention Center\, Rosemont\, Illinois
END:VEVENT
BEGIN:VEVENT
DTSTART;VALUE=DATE:20260804
DTEND;VALUE=DATE:20260807
DTSTAMP:20260423T083253
CREATED:20260413T173550Z
LAST-MODIFIED:20260413T173550Z
UID:6666-1785801600-1786060799@anglesondesign.com
SUMMARY:GBTA
DESCRIPTION:
URL:https://anglesondesign.com/event/gbta/
LOCATION:McCormick Place\, Chicago\, Illinois
END:VEVENT
BEGIN:VEVENT
DTSTART;VALUE=DATE:20260812
DTEND;VALUE=DATE:20260815
DTSTAMP:20260423T083253
CREATED:20260413T172756Z
LAST-MODIFIED:20260413T172756Z
UID:6649-1786492800-1786751999@anglesondesign.com
SUMMARY:Superzoo
DESCRIPTION:
URL:https://anglesondesign.com/event/superzoo-3/
LOCATION:Mandalay Bay\, Las Vegas\, Nevada
END:VEVENT
BEGIN:VEVENT
DTSTART;VALUE=DATE:20260819
DTEND;VALUE=DATE:20260821
DTSTAMP:20260423T083253
CREATED:20260413T171325Z
LAST-MODIFIED:20260413T171325Z
UID:6622-1787097600-1787270399@anglesondesign.com
SUMMARY:Industrial Vehicle
DESCRIPTION:
URL:https://anglesondesign.com/event/industrial-vehicle-4/
LOCATION:Donald E Stephens Convention Center\, Rosemont\, Illinois
END:VEVENT
BEGIN:VEVENT
DTSTART;VALUE=DATE:20260822
DTEND;VALUE=DATE:20260826
DTSTAMP:20260423T083253
CREATED:20260413T173448Z
LAST-MODIFIED:20260413T173448Z
UID:6663-1787356800-1787702399@anglesondesign.com
SUMMARY:American Chemical
DESCRIPTION:
URL:https://anglesondesign.com/event/american-chemical/
LOCATION:McCormick Place\, Chicago\, Illinois
END:VEVENT
END:VCALENDAR